BEGIN:VCALENDAR
VERSION:2.0
PRODID:-//YoJuliet - ECPv6.15.13.1//NONSGML v1.0//EN
CALSCALE:GREGORIAN
METHOD:PUBLISH
X-WR-CALNAME:YoJuliet
X-ORIGINAL-URL:https://yojuliet.se
X-WR-CALDESC:Händelser för YoJuliet
REFRESH-INTERVAL;VALUE=DURATION:PT1H
X-Robots-Tag:noindex
X-PUBLISHED-TTL:PT1H
BEGIN:VTIMEZONE
TZID:UTC
BEGIN:STANDARD
TZOFFSETFROM:+0000
TZOFFSETTO:+0000
TZNAME:UTC
DTSTART:20250101T000000
END:STANDARD
END:VTIMEZONE
BEGIN:VEVENT
DTSTART;TZID=UTC:20260812T190000
DTEND;TZID=UTC:20260812T200000
DTSTAMP:20260423T165717
CREATED:20260313T124245Z
LAST-MODIFIED:20260313T124245Z
UID:1335-1786561200-1786564800@yojuliet.se
SUMMARY:Musik i sommarkväll Kållereds kyrka
DESCRIPTION:
URL:https://yojuliet.se/event/musik-i-sommarkvall-kallereds-kyrka/
END:VEVENT
END:VCALENDAR