BEGIN:VCALENDAR
VERSION:2.0
PRODID:-//YoJuliet - ECPv6.15.13.1//NONSGML v1.0//EN
CALSCALE:GREGORIAN
METHOD:PUBLISH
X-ORIGINAL-URL:https://yojuliet.se
X-WR-CALDESC:Händelser för YoJuliet
REFRESH-INTERVAL;VALUE=DURATION:PT1H
X-Robots-Tag:noindex
X-PUBLISHED-TTL:PT1H
BEGIN:VTIMEZONE
TZID:UTC
BEGIN:STANDARD
TZOFFSETFROM:+0000
TZOFFSETTO:+0000
TZNAME:UTC
DTSTART:20240101T000000
END:STANDARD
END:VTIMEZONE
BEGIN:VEVENT
DTSTART;TZID=UTC:20251108T180000
DTEND;TZID=UTC:20251108T213000
DTSTAMP:20260423T233949
CREATED:20250106T174551Z
LAST-MODIFIED:20250511T190445Z
UID:1076-1762624800-1762637400@yojuliet.se
SUMMARY:Gösta Berlings saga\, Aftonstjärnan Göteborg
DESCRIPTION:Stumfilmsklassikern Gösta Berlings saga från 1924 med Greta Garbo i en av rollerna visas på Aftonstjärnan. Nyskriven musik av YoJuliet och Jonas Jonasson från bob hund framförs live i salongen. \nGösta Berlings saga är fylld av fest\, galenskap\, ångest\, brinnande hus\, kärlek och slädfärder med jagande vargar. YoJuliet och Jonas Jonasson har dykt ner i dramat för att musikaliskt gestalta filmen – stråkar\, slagverk\, sång och synthar samsas i ljudbilden skapar en spännande clash till de svartvita bilderna. Det blir komiskt\, vackert och djupt obehagligt i en salig röra. Karnevalsfest utlovas också\, liksom smäktande romantik. Allt för att matcha det maffiga\, mustiga och märkliga som genomsyrar Gösta Berlings saga. \nYoJuliet\, bestående av Julia Sandwall och Yohanna Eek Björnulfson\, har gjort sig ett namn som stumfilmsmusiker via Värnamo filmhistoriska festival. Spännande samarbeten pågår med bland andra Nino Ramsby\, ljudkonstnären Jan Carleklev och filmaren Göran du Rées. Framöver väntar stumfilmsturné i Sverige\, framträdanden i Danmark och Turkiet samt inspelning av ett första gemensamt album. \nJonas Jonasson trakterar synth i banden bob hund\, Sci-Fi SKANE och Jonas Jonassons Huvudwerk. Han har gjort musik för film\, teater och konst\, och var kapellmästare för bob hund i SVT:s ”På Spåret” 2024. I sommar åker han ut på stor avskedsturné med bob hund.\nhttps://www.bobhund.se/ \nStumfilmen Gösta Berlings saga är baserad på Selma Lagerlöfs roman och har en 18-årig Greta Garbo i en av rollerna. Den blev en världssuccé som banade väg för både Garbo och regissören Mauritz Stiller i Hollywood. Denna nya digitala version av filmen har restaurerats från flera källor till en så komplett version som möjligt\, tintad enligt en nitratkopia från Portugal. \nI pausen finns bar med öl och vin. \nVarmt välkomna!
URL:https://yojuliet.se/event/prel-gosta-berlings-saga-aftonstjarnan-goteborg/
LOCATION:Aftonstjärnan\, Göteborg\, Plåtslagaregatan 2\, Göteborg\, Västra Götaland\, 417 57\, Sweden
ORGANIZER;CN="Aftonstj%C3%A4rnan%2C G%C3%B6teborg":MAILTO:info@aftonstjarnan.se
END:VEVENT
BEGIN:VEVENT
DTSTART;TZID=UTC:20251129T180000
DTEND;TZID=UTC:20251129T200000
DTSTAMP:20260423T233949
CREATED:20250429T181805Z
LAST-MODIFIED:20251013T201321Z
UID:1118-1764439200-1764446400@yojuliet.se
SUMMARY:En som älskar - Börje Windfeldts animerade filmer
DESCRIPTION:EN SOM ÄLSKAR – LASTBILSCHAUFFÖRENS OKÄNDA FILMSKATT\nEn unik film-och musikföreställning med levande musik. En hyllning till Svensk Amatörfilm\, Folkrörelsearkiv och Folkbildning Börje Windfeldt var lastbilschaufför i sina föräldrars åkeri i Helsingborg hela sitt liv.  \nPå kvällar och nätter gjorde han film; enkla spelfilmer\, dokumentärfilm\, men framför allt unika och slagfärdiga animerade filmer. Han var från mitten av 60-talet och fram till sin död 1999\, en förgrundsgestalt och legend inom svensk smalfilm och amatörfilm. Han gjorde mer än 50 filmer\, prisbelönade i Sverige\, Norden och internationellt i UNICA; världsmästerskap i amatörfilm och icke kommersiell film. \nIdag är han helt okänd. Hur är det möjligt? Mötet med Börje Windfeldts filmer blir som att återfinna tiden\, en människas första steg till eget filmskapande och ögonblicken när allt är möjligt. Filmen var Börjes stora passion och kärlek\, men han övergav aldrig sitt yrke som lastbilschauﬀör. \nHan var ”amatör” och en fri filmare i begreppets verkliga betydelse. ”En amatör\, av franska amateur (från latin\, amare\, amator) som betyder ”En som älskar”\, en person som ägnar sig åt en verksamhet av eget intresse utan att ha det som yrke – motsatsen till professionell”. \nFILMVISNING OCH LIVEKONSERT KOMMER ATT ÄGA RUM PÅ ÅRSTA FOLKETS HUS. I samband med visningen kommer Göran Du Rées och Peo Olsson att medverka.
URL:https://yojuliet.se/event/prel-en-som-alskar-borje-windfeldts-animerade-filmer/
LOCATION:Årsta Folkets Hus\, Årsta Torg 5\, Årsta\, 120 54
END:VEVENT
BEGIN:VEVENT
DTSTART;TZID=UTC:20260328T180000
DTEND;TZID=UTC:20260328T220000
DTSTAMP:20260423T233949
CREATED:20251202T104938Z
LAST-MODIFIED:20260301T092830Z
UID:1261-1774720800-1774735200@yojuliet.se
SUMMARY:Gösta Berlings saga
DESCRIPTION:Stumfilmsklassikern Gösta Berlings saga från 1924 med Greta Garbo i en av rollerna visas på Röda Kvarn i Halmstad. Nyskriven musik av duon YoJuliet och Jonas Jonasson från bob hund framförs live i salongen. \nGösta Berlings saga är fylld av fest\, galenskap\, ångest\, brinnande hus\, kärlek och slädfärder med jagande vargar. YoJuliet och Jonas Jonasson har dykt ner i dramat för att musikaliskt gestalta filmen – stråkar\, slagverk\, sång och synthar samsas i ljudbilden skapar en spännande clash till de svartvita bilderna. Det blir komiskt\, vackert och djupt obehagligt i en salig röra. Karnevalsfest utlovas också\, liksom smäktande romantik. Allt för att matcha det maffiga\, mustiga och märkliga som genomsyrar Gösta Berlings saga. \nYoJuliet\, bestående av Julia Sandwall och Yohanna Eek Björnulfson\, har gjort sig ett namn som stumfilmsmusiker via Värnamo filmhistoriska festival. Spännande samarbeten har gjorts med bland andra Nino Ramsby\, ljudkonstnären Jan Carleklev och filmaren Göran du Rées. Under 2025 turnerade YoJuliet bland annat i Sverige\, Danmark och Turkiet och våren 2026 väntar inspelningen av ett första gemensamt album. \nJonas Jonasson trakterar synth i banden bob hund\, Sci-Fi SKANE och Jonas Jonassons Huvudwerk. Han har gjort musik för film\, teater och konst\, och var kapellmästare för bob hund i SVT:s ”På Spåret” 2024. I somras åkte han ut på stor avskedsturné med bob hund.\nhttps://www.bobhund.se/ \nStumfilmen Gösta Berlings saga är baserad på Selma Lagerlöfs roman och har en 18-årig Greta Garbo i en av rollerna. Den blev en världssuccé som banade väg för både Garbo och regissören Mauritz Stiller i Hollywood. Denna nya digitala version av filmen har restaurerats från flera källor till en så komplett version som möjligt\, tintad enligt en nitratkopia från Portugal. \nKonserten genomförs i samband med Röda Kvarns 100 års jubileum och med stöd av  Kulturrådet\, Längmanska kulturfonden och Värnamo filmhistoriska festival.
URL:https://yojuliet.se/event/gosta-berlings-saga/
LOCATION:Röda Kvarn\, Halmstad\, Bankgatan 3\, Halmstad\, Skåne\, 252 24\, Sweden
ORGANIZER;CN="R%C3%B6da Kvarn%2C Halmstad":MAILTO:info@svenskabio.se
END:VEVENT
BEGIN:VEVENT
DTSTART;TZID=UTC:20260803T180000
DTEND;TZID=UTC:20260803T190000
DTSTAMP:20260423T233949
CREATED:20260313T124009Z
LAST-MODIFIED:20260313T124020Z
UID:1332-1785780000-1785783600@yojuliet.se
SUMMARY:Musik i sommarkväll Lekeryds kyrka
DESCRIPTION:
URL:https://yojuliet.se/event/musik-i-sommarkvall-lekeryds-kyrka/
END:VEVENT
BEGIN:VEVENT
DTSTART;TZID=UTC:20260812T190000
DTEND;TZID=UTC:20260812T200000
DTSTAMP:20260423T233949
CREATED:20260313T124245Z
LAST-MODIFIED:20260313T124245Z
UID:1335-1786561200-1786564800@yojuliet.se
SUMMARY:Musik i sommarkväll Kållereds kyrka
DESCRIPTION:
URL:https://yojuliet.se/event/musik-i-sommarkvall-kallereds-kyrka/
END:VEVENT
BEGIN:VEVENT
DTSTART;TZID=UTC:20260830T060000
DTEND;TZID=UTC:20260830T090000
DTSTAMP:20260423T233949
CREATED:20250103T181617Z
LAST-MODIFIED:20260313T083754Z
UID:1067-1788069600-1788080400@yojuliet.se
SUMMARY:Soluppgångskonsert\, Röshults gård
DESCRIPTION:”Soluppgångsprojektet” är en hyllning till naturens transformation – från nattens mörker till dess att dagens första ljus bryter fram. Genom natur\, musik\, dans\, djur och ljuskonst vill vi skapa en kontemplativ upplevelse\, där publiken får bevittna olika skeenden under en soluppgång\, en påminnelse om en cykel vi sällan upplever idag – övergången mellan mörker och ljus\, övergången från vila till rörelse. \nDet här projektet är inte bara en konstnärlig upplevelse utan också en inbjudan till inre reflektion\, där gränsen mellan människa och natur suddas ut. Genom resan\, från mörker till ljus\, hoppas vi kunna skapa ett utrymme för en känsla av återupptäckt av både vårt inre och yttre landskap. \nYoJuliet kommer att samarbeta med: \nEvelina Dembacke\, ljusdesigner och visuell konstnär. Evelinas arbetar ofta i gränslandet mellan ljus och fotografi. \nSofie Palander\, dansare och rörelsekonstnär. Sofie arbetar med både hästars och människors rörelser i sina processer. Hon utforskar ofta balans\, avspänning och rörelsefrihet. \nCarlos Sepulveda\, musiker\, konstnär och ljudtekniker. Carlos har som ett av sina mål\, att transportera lyssnare till nya musikaliska dimensioner och sprida budskapet om immersivt ljud.
URL:https://yojuliet.se/event/prel-soluppgangskonsert-jonkopings-lan/
END:VEVENT
BEGIN:VEVENT
DTSTART;TZID=UTC:20260919T180000
DTEND;TZID=UTC:20260919T220000
DTSTAMP:20260423T233949
CREATED:20260301T092802Z
LAST-MODIFIED:20260301T093116Z
UID:1313-1789840800-1789855200@yojuliet.se
SUMMARY:Gösta Berlings saga i Bredaryd
DESCRIPTION:Stumfilmsklassikern Gösta Berlings saga från 1924 med Greta Garbo i en av rollerna visas i Bredaryd utanför Värnamo. Nyskriven musik av duon YoJuliet och Jonas Jonasson från bob hund framförs live. \nGösta Berlings saga är fylld av fest\, galenskap\, ångest\, brinnande hus\, kärlek och slädfärder med jagande vargar. YoJuliet och Jonas Jonasson har dykt ner i dramat för att musikaliskt gestalta filmen – stråkar\, slagverk\, sång och synthar samsas i ljudbilden skapar en spännande clash till de svartvita bilderna. Det blir komiskt\, vackert och djupt obehagligt i en salig röra. Karnevalsfest utlovas också\, liksom smäktande romantik. Allt för att matcha det maffiga\, mustiga och märkliga som genomsyrar Gösta Berlings saga. \nYoJuliet\, bestående av Julia Sandwall och Yohanna Eek Björnulfson\, har gjort sig ett namn som stumfilmsmusiker via Värnamo filmhistoriska festival. Spännande samarbeten har gjorts med bland andra Nino Ramsby\, ljudkonstnären Jan Carleklev och filmaren Göran du Rées. Under 2025 turnerade YoJuliet bland annat i Sverige\, Danmark och Turkiet och våren 2026 väntar inspelningen av ett första gemensamt album.\nhttps://yojuliet.se/ \nJonas Jonasson trakterar synth i banden bob hund\, Sci-Fi SKANE och Jonas Jonassons Huvudwerk. Han har gjort musik för film\, teater och konst\, och var kapellmästare för bob hund i SVT:s ”På Spåret” 2024. I somras åkte han ut på stor avskedsturné med bob hund.\nhttps://www.bobhund.se/ \nStumfilmen Gösta Berlings saga är baserad på Selma Lagerlöfs roman och har en 18-årig Greta Garbo i en av rollerna. Den blev en världssuccé som banade väg för både Garbo och regissören Mauritz Stiller i Hollywood. Denna nya digitala version av filmen har restaurerats från flera källor till en så komplett version som möjligt\, tintad enligt en nitratkopia från Portugal. \nKonserten genomförs i samverkan med Crenovagruppen och bygdegården. \nInformation om biljetter kommer.
URL:https://yojuliet.se/event/gosta-berlings-saga-i-bredaryd/
END:VEVENT
BEGIN:VEVENT
DTSTART;TZID=UTC:20261026T080000
DTEND;TZID=UTC:20261104T170000
DTSTAMP:20260423T233949
CREATED:20260301T093214Z
LAST-MODIFIED:20260301T095046Z
UID:1318-1793001600-1793811600@yojuliet.se
SUMMARY:International Mythology film festival Turkey (Turkiet)
DESCRIPTION:Gösta Berlings saga Live in Turkey 2026\nIn 2026\, YoJuliet joins forces with Jonas Jonasson (bob hund) for a special live performance of Gösta Berlings saga in the Turkish cities of Izmir and Gaziantep. \nThe performance in Gaziantep will take place at the city’s renowned Mosaic Museum — an evocative setting where early Swedish cinema meets ancient history in a unique cultural encounter. \nOriginally directed by Mauritz Stiller and based on Selma Lagerlöf’s celebrated novel\, Gösta Berlings saga is one of the great masterpieces of Swedish silent cinema. The story — a sweeping tale of passion\, redemption\, longing\, and rebellion — remains strikingly relevant more than a century after its creation. \nWith newly composed music performed live\, YoJuliet reimagines the film for contemporary audiences. Strings\, vocals\, and percussion create an immersive sound world where the wind whistles\, horses gallop\, and human vulnerability resonates with raw intensity. \nThe collaboration with Jonas Jonasson adds new sonic dimensions — expanding the emotional landscape of the film and deepening the dialogue between image and sounds. \nAcclaimed by Audiences and Critics\nYoJuliet’s interpretation of Swedish silent film has received wide acclaim. Following their celebrated performance at the Värnamo Filmhistoriska Festival\, audiences and critics alike praised the ensemble’s ability to breathe new life into early cinema. \n“It was absolutely fantastic! Completely unique! And with the live music — I was totally knocked out! I never thought I would attend a silent film screening\, but it was completely incredible!” — Pernilla August \n”The performance was phenomenal\, dynamic\, and unmistakably bold — marked by the same spirit of artistic freedom that Mauritz Stiller demonstrated in his approach to Selma Lagerlöf’s storytelling. With a distance of one hundred years\, the film team and composers engaged with the mysticism surrounding the story of Gösta Berling through independent interpretations. The composers sought to reflect Stiller’s vision through their own aesthetic language\, resulting in a work that\, taken as a whole\, emerges as truly innovative art.” — Mats Hallberg\, Kulturbloggen \nThrough live performance\, YoJuliet continues to explore the meeting point between early cinema and contemporary sound — creating film concerts that are at once historically rooted and urgently present.
URL:https://yojuliet.se/event/international-mythology-film-festival-turkey-turkiet/
END:VEVENT
END:VCALENDAR